BEGIN:VCALENDAR
VERSION:2.0
PRODID:-//Tukios.com/
BEGIN:VEVENT
UID:d4701f15-8085-4ef0-bc5f-9b98730fef38@www.orlandofuneralhome.com
DTSTAMP:20260422T001158Z
DTSTART:20260501T220000Z
DTEND:20260501T230000Z
SUMMARY:Celebration of Life
DESCRIPTION:
URL:https://www.orlandofuneralhome.com/obituaries/barbara-martucci
LOCATION:Colony Pub and Grill 2670 West 8th Street  Erie PA 16505
GEO:42.1058069;-80.143687
END:VEVENT
END:VCALENDAR